BEGIN:VCALENDAR
VERSION:2.0
PRODID:-//pretix//pretix.eu//
BEGIN:VTIMEZONE
TZID:Europe/Amsterdam
BEGIN:STANDARD
DTSTART:20001029T040000
RRULE:FREQ=YEARLY;BYDAY=-1SU;BYMONTH=10
TZNAME:CET
TZOFFSETFROM:+0200
TZOFFSETTO:+0100
END:STANDARD
BEGIN:DAYLIGHT
DTSTART:20000326T030000
RRULE:FREQ=YEARLY;BYDAY=-1SU;BYMONTH=3
TZNAME:CEST
TZOFFSETFROM:+0100
TZOFFSETTO:+0200
END:DAYLIGHT
END:VTIMEZONE
BEGIN:VEVENT
UID:pretix-voltnl-utrecht-264-0@events.voltnederland.org
DTSTART;TZID=Europe/Amsterdam:20260421T190000
DTEND;TZID=Europe/Amsterdam:20260421T200000
DESCRIPTION:Tickets: https://events.voltnederland.org/utrecht-264/\nOrganis
 ator: Volt Nederland
DTSTAMP:20260421T074958Z
LOCATION:Champ'Aubert\, Boterbloem 1\, 3972 SB Driebergen-\, Rijsenburg
SUMMARY:Congres Volt Utrecht
END:VEVENT
END:VCALENDAR
